BEGIN:VCALENDAR
VERSION:2.0
PRODID:-//eventon.com NONSGML v1.0//EN
CALSCALE:GREGORIAN
METHOD:PUBLISH
BEGIN:VEVENT
UID:69e7b6e908679
DTSTAMP:20260421T174201Z
DTSTART:20260630T173000Z
DTEND:20260630T215900Z
LOCATION:
SUMMARY:Klaverjasdrive
DESCRIPTION:Speel je graag klaverjas en zoek je een gezellige avond? Doe da
 n mee met onze maandelijkse Klaverjasdrive! Wat kun je verwachten? Deelname
 : Slechts 5 euro per team (twee personen per team).Wanneer: Elke laatste di
 nsdag van de maand &#8211; inloop om 19:30.Prijsuitreiking: De winnaars gaa
 n niet met lege handen naar huis![..]\nhttps://proeflokaalhop.nl/events/kla
 verjasdrive-2/
URL:https://proeflokaalhop.nl/events/klaverjasdrive-2/
END:VEVENT
END:VCALENDAR