BEGIN:VCALENDAR
VERSION:2.0
PRODID:-//eventon.com NONSGML v1.0//EN
CALSCALE:GREGORIAN
METHOD:PUBLISH
BEGIN:VEVENT
UID:69e7b6711388d
DTSTAMP:20260421T174001Z
DTSTART:20260512T180000Z
DTEND:20260512T215900Z
LOCATION:
SUMMARY:Film - Pink Floyd: Pulse
DESCRIPTION:Op het grote scherm bij Proeflokaal HOP &#8211; PINK FLOYD: P.U
 .L.S.E. Het album P.U.L.S.E. van Pink Floyd is een livealbum uit 1995\,  op
 genomen tijdens hun Division Bell Tour in 1994. Het album bevat een mix van
  bekende nummers uit hun carrière. Bijzonder aan P.U.L.S.E. is dat het vol
 ledige album The[..]\nhttps://proeflokaalhop.nl/events/film-pink-floyd-puls
 e/
URL:https://proeflokaalhop.nl/events/film-pink-floyd-pulse/
END:VEVENT
END:VCALENDAR